BEGIN:VCALENDAR
VERSION:2.0
PRODID:-//Vision Gallery - ECPv6.15.17//NONSGML v1.0//EN
CALSCALE:GREGORIAN
METHOD:PUBLISH
X-ORIGINAL-URL:https://www.visiongallery.org
X-WR-CALDESC:Events for Vision Gallery
REFRESH-INTERVAL;VALUE=DURATION:PT1H
X-Robots-Tag:noindex
X-PUBLISHED-TTL:PT1H
BEGIN:VTIMEZONE
TZID:America/Phoenix
BEGIN:STANDARD
TZOFFSETFROM:-0700
TZOFFSETTO:-0700
TZNAME:MST
DTSTART:20200101T000000
END:STANDARD
END:VTIMEZONE
BEGIN:VEVENT
DTSTART;VALUE=DATE:20210820
DTEND;VALUE=DATE:20210926
DTSTAMP:20260425T032326
CREATED:20210628T174417Z
LAST-MODIFIED:20210902T210055Z
UID:4535-1629417600-1632614399@www.visiongallery.org
SUMMARY:Between Two Worlds: Storytelling and Artwork by Shachi Kale
DESCRIPTION:In 2000\, after living her whole life in the bustling city of Mumbai\, India\, Shachi Kale relocated to the suburban sprawl of Chandler\, Arizona. While the adventure of moving 8\,800 miles away was thrilling and exciting\, the transition hit her like a tidal wave. To cope with her emotions\, Kale began creating intricately detailed drawings and paintings\, exploring her own experience through the lens of Western fairytale characters. Throughout her daily life in the early years\, Kale experienced Rapunzel’s isolation\, Alice’s emotional tumble down the rabbit hole\, and Cinderella’s domestic alienation – all of which she put down on paper. Fortunately\, as happens in fairytales\, Kale found fairy godmothers and godfathers who helped her adapt\, assimilate\, and overcome the difficulties of making a new home. This fantastical exhibition explores her journey from surviving to thriving in Chandler\, Arizona. \nImage: Shachi Kale\, Suspended Between Two Worlds\, Alice Hadn’t Anticipated A Prickly Landing. It Was All Getting Curiouser And Curiouser (Detail) \nExhibition Photos
URL:https://www.visiongallery.org/event/between-two-worlds-storytelling-and-artwork-by-shachi-kale/
LOCATION:Chandler Center for the Arts\, 250 N. Arizona Ave.\, Chandler\, AZ\, 85225
ATTACH;FMTTYPE=image/jpeg:https://www.visiongallery.org/wp-content/uploads/2021/06/Alice-12x16-horiz.jpg
END:VEVENT
BEGIN:VEVENT
DTSTART;VALUE=DATE:20210821
DTEND;VALUE=DATE:20211003
DTSTAMP:20260425T032326
CREATED:20210327T174738Z
LAST-MODIFIED:20210902T205506Z
UID:4188-1629504000-1633219199@www.visiongallery.org
SUMMARY:Off the Clock: Artwork by City of Chandler Employees
DESCRIPTION:At the City of Chandler\, we are fortunate to have myriad multi-talented individuals working all around us. While many of our coworkers’ skills are visible in the office\, some talents are not as obvious. Further\, a year spent mostly at home has given many employees the opportunity to find new hobbies or rediscover old passions to pass the time. Featuring 25 artists from 11 City departments\, Off the Clock celebrates the artistic talents of our fellow City employees! \nExhibiting Artists\nTheo Anglin\, Jennifer Bailey\, Kathryn Beck\, Kareena Betancourt\, Peter Bugg\, Anna Camino\, James Carreno\, Cynde Cerf\, Andrea Cole\, Diana Deming\, Lessie Dingler\, Kim Durning\, Caroline Hudson-Naef\, Laurel Klimack\, Chris Leon\, Savana Martinez\, Susan May\, Rori Minor\, John Owens\, Yuliana Resendiz\, Rick Smith\, Nannette Tennant\, Sue Van Horne\, Michael Winer\, Melina Zuniga \n  \nExhibition Photos
URL:https://www.visiongallery.org/event/off-the-clock-artwork-by-city-of-chandler-employees/
LOCATION:Vision Gallery\, 10 E Chicago St\, Chandler\, AZ\, 85225\, United States
ATTACH;FMTTYPE=image/jpeg:https://www.visiongallery.org/wp-content/uploads/2021/03/Zuniga_CarrerasEnCaballo3-Melina-Zuniga_2000px.jpg
END:VEVENT
BEGIN:VEVENT
DTSTART;VALUE=DATE:20210923
DTEND;VALUE=DATE:20211010
DTSTAMP:20260425T032326
CREATED:20210804T183338Z
LAST-MODIFIED:20210909T172329Z
UID:4577-1632355200-1633823999@www.visiongallery.org
SUMMARY:Remarkable Presence
DESCRIPTION:Installation \nRemarkable Presence is an art installation by Jen Urso taking place at multiple locations across the Valley. The installation consists of small\, numbered paper suitcases representing the total number of COVID-19 related deaths in Arizona. While the main exhibition takes place at Walter Art Gallery in Scottsdale\, AZ\, Vision Gallery presents a portion of these paper suitcases in a supporting exhibition. \nWhen someone dies\, they leave behind all the parts of their life that they couldn’t take with them. Family and friends are left with the task of sorting through these objects and deciding what to keep\, what to give away and what to throw away. It seems impossible to place value on objects loaded with meaning and past purpose. “As my own sister was dying of cancer during this pandemic\, I was the main person to go through this process. I sorted through bags\, boxes\, bins and suitcases—making difficult decisions on objects that had been kept for another time\, but time ran out. I imagined all of the things my sister owned and had ever created being packed tightly into a suitcase and then bursting out of it when opened.” \n“As Arizona came to lead the world with the highest COVID-19 infection rate\, over a hundred people were reported dead each day. For each one of those people\, there was a family devastated\, like me\, who was faced with going through their loved-one’s belongings and making decisions. I decided I needed to make something that represents and honors each one of these individuals and to hold events where we could collectively grieve together.” The pop-up suitcases on display are a few of approximately 100 made including information from some of the hundreds of obituaries in Arizona where COVID was listed as the cause of death. \nPlease visit the website for more information on this project or to request to receive a suitcase. \nhttps://www.remarkablepresence.com/ \nCollective Grieving Event\nSaturday\, September 25\, 4pm-6pm \nIn addition to this installation\, one of several public “Collective Grievings” will be held at Vision Gallery on Saturday\, September 25\, 4pm-6pm. At this event\, the community is invited to receive an empty\, numbered suitcase from the Remarkable Presence installation with the agreement to emotionally tend to that person’s memory and belongings. Throughout the entire pandemic\, families and friends have had to delay their grieving because of limitations on in-person attendance at events. Many obituaries state that “due to covid…” they are delaying services\, limiting services or forgoing services altogether. The lack of communal grieving has put us in an even more isolated state of mind as we’re forced to be alone\, without the comfort of human touch or understanding face. This event serves as a moment to acknowledge our pain\, remember those who have passed\, and attempt to heal. \n“I hope that these events and this work will be an opportunity for us to share in the grief we’ve experienced over the past year. I hope it will give people the chance to think or talk about the person they miss.” – Jen Urso \nRSVP
URL:https://www.visiongallery.org/event/remarkable-presence/
LOCATION:Vision Gallery\, 10 E Chicago St\, Chandler\, AZ\, 85225\, United States
ATTACH;FMTTYPE=image/jpeg:https://www.visiongallery.org/wp-content/uploads/2021/08/remarkable-presence-previsualization-two.jpg
END:VEVENT
END:VCALENDAR