BEGIN:VCALENDAR
VERSION:2.0
PRODID:-//Vision Gallery - ECPv6.15.17//NONSGML v1.0//EN
CALSCALE:GREGORIAN
METHOD:PUBLISH
X-WR-CALNAME:Vision Gallery
X-ORIGINAL-URL:https://www.visiongallery.org
X-WR-CALDESC:Events for Vision Gallery
REFRESH-INTERVAL;VALUE=DURATION:PT1H
X-Robots-Tag:noindex
X-PUBLISHED-TTL:PT1H
BEGIN:VTIMEZONE
TZID:America/Phoenix
BEGIN:STANDARD
TZOFFSETFROM:-0700
TZOFFSETTO:-0700
TZNAME:MST
DTSTART:20250101T000000
END:STANDARD
END:VTIMEZONE
BEGIN:VEVENT
DTSTART;VALUE=DATE:20260328
DTEND;VALUE=DATE:20260607
DTSTAMP:20260420T015220
CREATED:20251220T225112Z
LAST-MODIFIED:20260307T202310Z
UID:7280-1774656000-1780790399@www.visiongallery.org
SUMMARY:Is There Wi-Fi in Heaven? Grieving in the Digital Age
DESCRIPTION:Have you ever sent a text message you knew would always go unanswered? Or visited a dead loved one’s social media profile just to reflect on them? You’re not alone. Is there Wi-Fi in Heaven: Grieving in the Digital Age explores how technology reshapes the ways we mourn and maintain bonds with the dead. As social media and digital tools transform our interactions with the living\, they also create new tools for how we grieve. Through works that consider online rituals\, digital memorials\, and the management of “digital remains\,” this exhibition reflects on emerging practices of public mourning\, continuing bonds\, and even pseudo-spiritual attempts to connect across the divide. In the networked age\, grief too\, is increasingly mediated through screens\, raising questions about permanence\, ritual\, and what it means to visit the dead when physical presence is no longer required. \nOpening Reception\nFriday\, March 27\, 6-8 pm \nRSVP
URL:https://www.visiongallery.org/event/is-there-wi-fi-in-heaven-grieving-in-the-digital-age/
LOCATION:Vision Gallery\, 10 E Chicago St\, Chandler\, AZ\, 85225\, United States
ATTACH;FMTTYPE=image/png:https://www.visiongallery.org/wp-content/uploads/2025/12/estes_imagetext-scaled.png
END:VEVENT
BEGIN:VEVENT
DTSTART;VALUE=DATE:20260328
DTEND;VALUE=DATE:20260607
DTSTAMP:20260420T015220
CREATED:20260307T202124Z
LAST-MODIFIED:20260307T202124Z
UID:7475-1774656000-1780790399@www.visiongallery.org
SUMMARY:Heirlooms: Dawn Kushner
DESCRIPTION:Emerging from craft and Appalachian history\, these laser-cut vellum doilies transform transgenerational loss into material form. The doilies incorporate archival photographs\, news articles\, and handwritten letters related to West Virginia’s extensive history of extractive industries. By burning and removing portions of the printed surface\, the work itself serves as a place of extraction. The remaining translucent\, fragmented forms become artifacts of mourning\, symbolizing what cannot be fully reconciled or restored. \nArtwork by Dawn Kushner \nOpening Reception\nFriday\, March 27\, 6-8 pm \nRSVP\n 
URL:https://www.visiongallery.org/event/heirlooms-dawn-kushner/
LOCATION:Vision Gallery\, 10 E Chicago St\, Chandler\, AZ\, 85225\, United States
ATTACH;FMTTYPE=image/png:https://www.visiongallery.org/wp-content/uploads/2026/03/Heirlooms.png
END:VEVENT
END:VCALENDAR